BEGIN:VCALENDAR
VERSION:2.0
PRODID:-//Kalender//
BEGIN:VEVENT
SUMMARY:Die Konzeptionswerkstatt
DTSTART:20261013T070000Z
DTEND:20261014T140000Z
DTSTAMP:20260423T233524Z
UID:event_ical_kalender_294
DESCRIPTION:Eine pädagogische Konzeption gibt Orientierung\, schafft Tran
 sparenz und bildet die Grundlage für die Qualität der Arbeit in Kinderta
 geseinrichtungen. In diesem zweitägigen Seminar setzen sich die Teilnehme
 nden mit den Grundlagen\, Anforderungen und Entwicklungsschritten einer ei
 nrichtungsbezogenen Konzeption auseinander. Ziel ist es\, die eigene Konze
 ption praxisnah weiterzuentwickeln und als lebendiges Arbeitsinstrument im
  Alltag zu nutzen. Inhalte in Stichpunkten: - Aufbau und zentrale Bestand
 teile einer Konzeption - Konzeptionsentwicklung als Teamprozess gestalten
  - Auseinandersetzen mit der Orientierungshilfe „Anforderungen an eine 
 Einrichtungskonzeption für Kindertageseinrichtungen“ der Bundesarbeitsg
 emeinschaft der Landesjugendämter - Leitbild\, Werte und pädagogische H
 altung klären - Pädagogische Schwerpunkte der Einrichtung herausarbeite
 n - Beteiligung von Team\, Eltern und Träger einbeziehen - Bestehende K
 onzeptionen überprüfen und weiterentwickeln - Praxisnahe Methoden zur K
 onzeptionsarbeit -Transfer in den Einrichtungsalltag Informationen Zielgru
 ppen Leitungen und stellvertretende Leitungen von pädagogischen Einrichtu
 ngen Referentin Steffi Hosemann\, Dipl.Sozialpädagogin(FH)\, Fortbildneri
 n\, Fachberaterin\, Systemischer Coach Leitung Sandy Franke-Muschalle Prei
 se: Kursgebühr (inkl. Verpflegung): 199 € Übernachtung inkl. Frühstü
 ck: 66\,00 € (EZ) Übernachtung inkl. Frühstück: 97\,00 € (DZ) Anmel
 dung: Die Anzahl der Teilnehmer:innen ist begrenzt. Anmeldeschluss ist der
  28.09.2026
LOCATION:Roncalli-Haus Magdeburg
END:VEVENT
END:VCALENDAR
