BEGIN:VCALENDAR
VERSION:2.0
PRODID:-//Kalender//
BEGIN:VEVENT
SUMMARY:Kinder stärken durch Tanz und Bewegung
DTSTART:20261104T080000Z
DTEND:20261104T150000Z
DTSTAMP:20260423T193711Z
UID:event_ical_kalender_293
DESCRIPTION:Im Kreativen Kindertanz beschäftigen wir uns mit einem freien
 \, spielerischen Umgang mit dem Tanz\, bei dem die Kinder sich individuell
  entfalten können. Durch Bewegung kann eine ganz individuelle Sprache ent
 stehen. Den Teilnehmer:innen werden unterschiedliche Musikstile\, fantasie
 volle Bewegungsideen\, Anregungen und Geschichten vermittelt. Diese könne
 n auch als Grundlage für verschiedene einfache Tanztechniken und kurze Ch
 oreographien bzw. Schrittfolgen im Kitaalltag genutzt werden. Durch Impuls
 e lassen sich viele Themen darstellen. Erwärmungs- und Technikübungen\, 
 Übungen zur Wahrnehmung\, zur Konzentration und zum Rhyth-mus sowie Beweg
 ungsspiele schauen wir uns hier-bei genauer an. Tanzvorerfahrung ist keine
  Voraussetzung. Bequeme Kleidung und Socken sind wünschenswert Informatio
 nen Zielgruppen Pädagogische Fachkräfte &amp\; Interessierte Referentin 
 Theresa Diehl\, Tanz- und Bewegungspädagogin\, Psycho-motorikerin\, Erzie
 herin Leitung Sandy Franke-Muschalle Preise:  Kursgebühr (inkl. Verpfleg
 ung): 99 € Übernachtung inkl. Frühstück: 66\,00 € (EZ) Übernachtun
 g inkl. Frühstück: 97\,00 € (DZ) Anmeldung :  Anzahl der Teilnehmer:i
 nnen ist begrenzt. Anmeldeschluss ist der 23.10.2026.
LOCATION:Roncalli-Haus Magdeburg
END:VEVENT
END:VCALENDAR
