BEGIN:VCALENDAR
VERSION:2.0
PRODID:-//Kalender//
BEGIN:VEVENT
SUMMARY:Dem Unsagbaren eine Stimme geben
DTSTART:20260417T160000Z
DTEND:20260419T143000Z
DTSTAMP:20260423T211958Z
UID:event_ical_kalender_285
DESCRIPTION:Ein Wochenende für Trauernde Einsamkeit\, Wut\, Hoffnung: Tra
 uer hat viele Gesichter. Wie gehen wir mit der eigenen Trauer um? Wie kann
  ich damit weiterleben? Welche Erinnerungen will ich bewahren? Welche Ritu
 ale helfen bereits\, welche kann ich neu entdecken? Das Seminar lädt dazu
  ein\, inne zu halten und im Zusammensein mit anderen\, die ähnliche Erfa
 hrungen gemacht haben\, Halt und Ermutigung zu finden. Hier können Sie si
 ch austauschen\, Ihrer Trauer nachspüren\, sich verstanden und angenommen
  fühlen. Wir werden über verschiedene Aspekte der Trauerbearbeitung nach
 denken und reden: • Trauerrituale kennen und gestalten\, • spüren\,
  was trotz des Verlustes trägt\, • Unfassbares fassbar machen und Geme
 inschaft erleben\, • festen Boden gewinnen\, um das Leben mit dem Verlu
 st neu anzunehmen. Gemeinsam arbeiten wir an folgenden Fragen: Wie kann ic
 h glücklich sein\, wenn ich doch trauere?\, Wie kann ich meine Trauer aus
 drücken?\, Was tut mir gut und hilft zu lernen\, mit der Wunde zu leben? 
 Jede Antwort ist einzigartig. Ich begleite Sie dabei\, Ihre eigene zu find
 en. Ich freue mich auf Sie  Katrin Hartig Zielgruppen Trauernde nach dem 
 Tod eines Angehörigen oder geliebten Menschen\; verwaiste Eltern und Gesc
 hwister\; Ehrenamtliche\, die Trauernde begleiten und selbst Trauererfahru
 ngen gemacht haben. Referentin Katrin Hartig\, Trauerbegleiterin (Ausbildu
 ng am Internationalen Institut für Angewandte Humanforschung\, Dr. Jorgis
  Canacakis) Leitung Sandy Franke-Muschalle Preise Kursgebühr (inkl. Verpf
 legung): 199 € Übernachtung inkl. Frühstück: 66\,00 € (EZ) Übernac
 htung inkl. Frühstück: 97\,00 € (DZ) Die Anzahl der Teilnehmer:innen i
 st begrenzt. Anmeldeschluss ist der 08.04.2026
LOCATION:Roncalli-Haus Magdeburg
END:VEVENT
END:VCALENDAR
