BEGIN:VCALENDAR
VERSION:2.0
PRODID:-//Kalender//
BEGIN:VEVENT
SUMMARY:Bald bin ich ein (Vor)Schulkind!
DTSTART:20260609T070000Z
DTEND:20260610T140000Z
DTSTAMP:20260421T102119Z
UID:event_ical_kalender_280
DESCRIPTION:Bildungsprozesse in den letzten beiden Kitajahren. Kinder beim
  Übergang in die Grundschule begleiten\, ist so viel mehr als die richtig
 e Stifthaltung und das Training von Schwungübungen. Vorschulkinder müsse
 n sich in der Zeit des Übergangs vom Kindergarten in die Grundschule beso
 nderen Herausforderungen stellen. Aber was brauchen Kinder für einen gute
 n Start in der Schule? In nahezu allen Kitas spielt das Thema Schulvorbere
 itung eine wichtige Rolle. Im Mittelpunkt steht die Frage\, welche Kompete
 nzen Kinder heute brauchen\, um lustvoll in der Schule und im späteren Le
 ben lernen zu können. Das Seminar beschäftigt sich zudem mit Fragen wie:
  Was können Fachkräfte bedürfnisorientiert tun\, damit Kinder ihre nat
 ürliche Lust und Freude am Lernen entdecken und behalten? Wie kann eine s
 innvolle Schulvorbereitung aussehen? Wie können notwendige Bildungsprozes
 se in den Alltag integriert werden\, ohne dass eine isolierte\, einseitige
  Förderung einzelner Fähigkeiten im Mittelpunkt steht? Zielgruppen Päda
 gogische Fachkräfte und Interessierte Referentin / Leitung Sandy Franke-M
 uschalle\, Dipl. Heilpädagogin (FH)\, Lerntherapeutin\, Montessoripädago
 gin\, Marte Meo Prak-tikerin Preise Kursgebühr (inkl. Verpflegung): 199 
 € Übernachtung inkl. Frühstück: 65\,50 € (EZ) Übernachtung inkl. F
 rühstück: 96\,00 € (DZ) Anzahl der Teilnehmer:innen ist begrenzt. Anme
 ldeschluss ist der 26.05.2026.
LOCATION:Roncalli-Haus Magdeburg
END:VEVENT
END:VCALENDAR
