BEGIN:VCALENDAR
VERSION:2.0
PRODID:-//Kalender//
BEGIN:VEVENT
SUMMARY:Der Kosteklecks
DTSTART:20260603T070000Z
DTEND:20260603T140000Z
DTSTAMP:20260421T101651Z
UID:event_ical_kalender_278
DESCRIPTION:Top oder Flop in der pädagogischen Arbeit? Mahlzeiten sind p
 ädagogisch wertvolle Schlüsselsituationen für Gesundheit\, Sinnlichkeit
 \, Sachwissen und emotional-sozialer Bildung. Das ist besonders herausford
 ernd\, da die Ernährungsgewohnheiten von Kindern sehr unterschiedlich sin
 d und am Essenstisch aufeinandertreffen. Der „kleine Gourmet“ trifft a
 uf den „Ich-mag-nur-Nudeln-Esser“\, die „Milchschnitte“ auf das 
 „Bio-Müsli“. Dieses Seminar lädt Sie ein\, Antworten auf folgende Fr
 agen zu finden:  - Wie rege ich Kinder an Verschiedenes zu probieren? - I
 st der Kostekleck der richtige Weg dafür? - Was sind Qualitätskriterien 
 für entwicklungsfördernde und gesunde Verpflegungssituationen? - Welche 
 Rolle habe ich als Fachkraft in diesem Prozess? - Wie gehe ich professione
 lle mit Appetitlosig-keit\, Hunger\, (fehlendem) Sättigungsgefühl oder 
 „Futterfrust“ um? In einem Mix aus anschaulichem Vortrag\, Erfahrungsa
 ustausch und lebendigen Praxisbeispielen frischen Sie Ihr Wissen zu ernäh
 rungspsychologischen Grundlagen im Kindesalter auf\, die Sie auch in der E
 lternarbeit nutzen können. Sie erhalten Praxis- und Rezeptideen für die 
 Frühstücks-\, Mittags- und Vesperverpflegung und sind gestärkt\, Kinder
  professionell in ihrer gesundheitlichen und emotional-sozialen Entwicklun
 g zu begleiten. Zielgruppe Fachkräfte aus Kitas und Interessierte Referen
 tin Dr. Franziska Dathe\, Dipl. Gesundheitswirtin (FH)\, promovierte Sozia
 l- und Verhaltenswissenschaftlerin\, Dozentin Leitung Sandy Franke-Muschal
 le Preise Kursgebühr (inkl. Verpflegung): 99\,00 € Übernachtung inkl. 
 Frühstück: 66\,00 € (EZ) Übernachtung inkl. Frühstück: 97\,00 € (
 DZ) Anmeldeschluss: 21.05.2026 Die Anzahl der Teilnehmer:innen ist begrenz
 t
LOCATION:Roncalli-Haus Magdeburg
END:VEVENT
END:VCALENDAR
