BEGIN:VCALENDAR
VERSION:2.0
PRODID:-//Kalender//
BEGIN:VEVENT
SUMMARY:12. bundesweite Frauenfachtagung
DTSTART:20260807T160000Z
DTEND:20260809T100000Z
DTSTAMP:20260423T194717Z
UID:event_ical_kalender_254
DESCRIPTION:Zeit für Zeit - Auf der Suche nach dem roten Faden   12. bu
 ndesweite Frauenfachtagung vom 7.-9. August 2026 in Magdeburg Wie gehen wi
 r mit unserer Zeit um? Was wollen wir festhalten\, was loslassen? An diese
 m Wochenende nehmen wir uns Raum zum Nachdenken\, Austauschen und Feiern 
 – persönlich\, politisch und kreativ. Mit Vorträgen\, Workshops und k
 ünstlerischen Impulsen bewegen wir uns durch Themen wie Körperbilder\, L
 ebenswege\, Feminismus\, Glaube\, Erinnerung und Zukunftsfragen. Eröffnet
  wird die Tagung mit dem Dokumentarfilm „Helke Sander: Aufräumen“ von
  Claudia Richarz. Am Sonntag spricht Prof. Dr. Linda Hentschel über Melan
 cholie und Zeitlichkeit. Abgerundet wird das Programm durch Kultur\, Musik
 \, Tanz und gemeinsame Begegnung. Wo? Roncalli-Haus\, Magdeburg Anmeldung:
  frauenini04@posteo.de (bitte mit Postadresse) Teilnahmebeitrag: Mitfrauen
  ab 55 €\, Gästinnen ab 75 € (gern mehr – der Beitrag ist nicht
  kostendeckend) Weitere Informationen\, sowie den kompletten Ablauf &amp\;
  das Programm finden Sie hier.
LOCATION:Roncalli-Haus Magdeburg
END:VEVENT
END:VCALENDAR
