BEGIN:VCALENDAR
VERSION:2.0
PRODID:-//Kalender//
BEGIN:VEVENT
SUMMARY:Leitungskompetenzkurs 2027 (Beginn Januar 2027)
DTSTART:20270118T080000Z
DTEND:20271208T080000Z
DTSTAMP:20260423T194716Z
UID:event_ical_kalender_211
DESCRIPTION:Leitungskompetenz - Führen &amp\; Leiten einer Kindertagesein
 richtung Die Leitung einer Kindertageseinrichtung nimmt eine Schlüsselpos
 ition für die Qualität der Umsetzung des Bildungs-\, Erziehungs- und Bet
 reuungsauftrags sowie der steten Weiterentwicklung der pädagogischen Arbe
 it in Kitas ein. Ihr obliegen vielfältige und anspruchsvolle Aufgaben. Le
 itungskräfte müssen über soziale\, fachliche und persönliche Kompetenz
 en verfügen\, um den gestiegenen Anforderungen gerecht zu werden. Innerha
 lb eines Jahres werden Kompetenzen vermittelt und erweitert\, welche Leite
 r:innen qualifizieren und gezielt auf deren Tätigkeiten vorbereiten. Modu
 le Grundlagen eines institutionellen Managements in Kindertageseinrichtung
 en Kommunikation und Informationsprozesse gestalten Rechte der Kinder Mein
 e Kita leiten - Bildungs- und Erziehungsmanagement Das pädagogische Team 
 leiten und begleiten Kinderschutz Etablierung einer Pädagogik der Vielfal
 t und der Inklusion Qualitätsentwicklung in der Kindertageseinrichtung Re
 cht Kolloquium Informationen Beginn:           18./ 19. Januar 2027 
 Ende:              08. Dezember 2027 Gesamt:         26 Kursta
 ge Die genauen Daten finden Sie im Flyer. Anmeldeschluss ist der 11.12.202
 6 Zielgruppe Leitungen und angehende Leitungen in Kindertageseinrichtungen
  Referentin/Leitung Sandy Franke-Muschalle\; dipl. Heilpädagoging (FH)\, 
 Lerntherapeutin\, Montessoripädagogin\, Marte Meo Praktikerin Kursgebühr
 : 1.099\,00 € Übernachtung inkl. Frühstück: 66\,00 € (EZ)\, 97\,00
  € (DZ) Anmeldeschluss ist der: 11.12.2026
LOCATION:Roncalli-Haus Magdeburg
END:VEVENT
END:VCALENDAR
